BEGIN:VCALENDAR
VERSION:2.0
PRODID:-//Winnipeg Free Press - ECPv6.15.20//NONSGML v1.0//EN
CALSCALE:GREGORIAN
METHOD:PUBLISH
X-ORIGINAL-URL:https://dev.winnipegfreepress.com
X-WR-CALDESC:Events for Winnipeg Free Press
REFRESH-INTERVAL;VALUE=DURATION:PT1H
X-Robots-Tag:noindex
X-PUBLISHED-TTL:PT1H
BEGIN:VTIMEZONE
TZID:America/Winnipeg
BEGIN:DAYLIGHT
TZOFFSETFROM:-0600
TZOFFSETTO:-0500
TZNAME:CDT
DTSTART:20250309T080000
END:DAYLIGHT
BEGIN:STANDARD
TZOFFSETFROM:-0500
TZOFFSETTO:-0600
TZNAME:CST
DTSTART:20251102T070000
END:STANDARD
BEGIN:DAYLIGHT
TZOFFSETFROM:-0600
TZOFFSETTO:-0500
TZNAME:CDT
DTSTART:20260308T080000
END:DAYLIGHT
BEGIN:STANDARD
TZOFFSETFROM:-0500
TZOFFSETTO:-0600
TZNAME:CST
DTSTART:20261101T070000
END:STANDARD
BEGIN:DAYLIGHT
TZOFFSETFROM:-0600
TZOFFSETTO:-0500
TZNAME:CDT
DTSTART:20270314T080000
END:DAYLIGHT
BEGIN:STANDARD
TZOFFSETFROM:-0500
TZOFFSETTO:-0600
TZNAME:CST
DTSTART:20271107T070000
END:STANDARD
END:VTIMEZONE
BEGIN:VEVENT
DTSTART;TZID=America/Winnipeg:20260418T110000
DTEND;TZID=America/Winnipeg:20260418T130000
DTSTAMP:20260423T192144
CREATED:20260303T153535Z
LAST-MODIFIED:20260303T153535Z
UID:602197169-1776510000-1776517200@dev.winnipegfreepress.com
SUMMARY:2026 Niverville Event Centre Open House
DESCRIPTION:Niverville Event Centre – Open House | April 18th 2026 | 11am-1pm \nLocated in the Niverville Heritage Centre at 100C Heritage Trail. \nSAVE THE DATE and join us on Saturday\, April 18th\nas we showcase all the Niverville Event Centre has to offer.\nView our mock ceremony & reception set-up\, meet the vendors we love and see what’s new for 2026. \nThis invite is exclusive to current or new clients inquiring about booking our\n venue for a ceremony\, reception or other special event. \nFREE for all to enjoy & be inspired. ❤\nRSVP the # of guests you plan to bring to events@heritagecentre.ca.
URL:https://dev.winnipegfreepress.com/event/2026-niverville-event-centre-open-house
LOCATION:Niverville Event Centre\, 100C Heritage trail\, Niverville\, Manitoba\, R0A0A1\, Canada
ATTACH;FMTTYPE=image/jpeg:https://dev.winnipegfreepress.com/wp-content/uploads/sites/2/2026/03/Poster-FINAL.jpeg
END:VEVENT
END:VCALENDAR