BEGIN:VCALENDAR
VERSION:2.0
PRODID:-//Winnipeg Free Press - ECPv6.15.20//NONSGML v1.0//EN
CALSCALE:GREGORIAN
METHOD:PUBLISH
X-WR-CALNAME:Winnipeg Free Press
X-ORIGINAL-URL:https://dev.winnipegfreepress.com
X-WR-CALDESC:Events for Winnipeg Free Press
REFRESH-INTERVAL;VALUE=DURATION:PT1H
X-Robots-Tag:noindex
X-PUBLISHED-TTL:PT1H
BEGIN:VTIMEZONE
TZID:America/Winnipeg
BEGIN:DAYLIGHT
TZOFFSETFROM:-0600
TZOFFSETTO:-0500
TZNAME:CDT
DTSTART:20250309T080000
END:DAYLIGHT
BEGIN:STANDARD
TZOFFSETFROM:-0500
TZOFFSETTO:-0600
TZNAME:CST
DTSTART:20251102T070000
END:STANDARD
BEGIN:DAYLIGHT
TZOFFSETFROM:-0600
TZOFFSETTO:-0500
TZNAME:CDT
DTSTART:20260308T080000
END:DAYLIGHT
BEGIN:STANDARD
TZOFFSETFROM:-0500
TZOFFSETTO:-0600
TZNAME:CST
DTSTART:20261101T070000
END:STANDARD
BEGIN:DAYLIGHT
TZOFFSETFROM:-0600
TZOFFSETTO:-0500
TZNAME:CDT
DTSTART:20270314T080000
END:DAYLIGHT
BEGIN:STANDARD
TZOFFSETFROM:-0500
TZOFFSETTO:-0600
TZNAME:CST
DTSTART:20271107T070000
END:STANDARD
END:VTIMEZONE
BEGIN:VEVENT
DTSTART;TZID=America/Winnipeg:20260219T190000
DTEND;TZID=America/Winnipeg:20260219T203000
DTSTAMP:20260424T193937
CREATED:20260128T170617Z
LAST-MODIFIED:20260128T170617Z
UID:602134191-1771527600-1771533000@dev.winnipegfreepress.com
SUMMARY:Jason Ellis
DESCRIPTION:Doors:     6:00 PM\nShow:      7:00 PM \nThe Park Theatre\n698 Osborne St\nWinnipeg\, MB \n19+ Event  \nBorn in Melbourne\, Australia\, and now living in Los Angeles\, multi- hyphenate athlete/performer Jason Ellis has had an illustrious career across many different platforms. A true renaissance man\, he has been a professional Skateboarder\, radio personality\, MMA fighter\, race car driver\, New York Times best-selling author\, actor\, singer\, public speaker\, past participant & current host of XGames\, and most recently stand-up comedy. As the host of the daily Jason Ellis Show on SIRIUS XM radio for more than 15 years\, Jason has now transitioned to the podcast world with The Jason Ellis Show Podcast and Hawk vs. Wolf podcast alongside fellow skateboarder and friend\, Tony Hawk. A proud father\, Jason is also an advocate for the Recovery\, Animal Rescue\, and LGBTQ+ communities.   \nFollow us on Instagram @dfrntnights for more information
URL:https://dev.winnipegfreepress.com/event/jason-ellis
LOCATION:The Park Theatre\, 698 Osborne Street\, Winnipeg\, Manitoba\, R3L 2B9\, Canada
ATTACH;FMTTYPE=image/png:https://dev.winnipegfreepress.com/wp-content/uploads/sites/2/2026/01/Jason-Ellis-Winnipeg-Feb-19.png
END:VEVENT
BEGIN:VEVENT
DTSTART;TZID=America/Winnipeg:20260226T200000
DTEND;TZID=America/Winnipeg:20260226T220000
DTSTAMP:20260424T193937
CREATED:20260217T144903Z
LAST-MODIFIED:20260217T144903Z
UID:602171638-1772136000-1772143200@dev.winnipegfreepress.com
SUMMARY:Smut Slam - the adult only open mic
DESCRIPTION:Brace yourselves for stories you never expected to hear on stage\, embraced by a room full of supportive strangers. Anyone can sign up to share\, and the top three will win up to $150 from Love Nest!\nStories based on REAL life\, REAL lust\, REAL Smut \nSmut Slam\, the Internationally Infamous Adult Only Storytelling Open Mic\, and has been pleasuring audiences and selling out across Canada!  We’re at Limelight monthly\, every show is unique. It’s a night you won’t want to miss!
URL:https://dev.winnipegfreepress.com/event/smut-slam-the-adult-only-open-mic
LOCATION:The Limelight Karaoke Bar\, 531 St Mary's Rd\, Winnipeg\, Manitoba\, Canada
ATTACH;FMTTYPE=image/png:https://dev.winnipegfreepress.com/wp-content/uploads/sites/2/2026/02/SS-Discovery-General.png
END:VEVENT
END:VCALENDAR