BEGIN:VCALENDAR
VERSION:2.0
PRODID:-//Winnipeg Free Press - ECPv6.15.20//NONSGML v1.0//EN
CALSCALE:GREGORIAN
METHOD:PUBLISH
X-ORIGINAL-URL:https://dev.winnipegfreepress.com
X-WR-CALDESC:Events for Winnipeg Free Press
REFRESH-INTERVAL;VALUE=DURATION:PT1H
X-Robots-Tag:noindex
X-PUBLISHED-TTL:PT1H
BEGIN:VTIMEZONE
TZID:America/Winnipeg
BEGIN:DAYLIGHT
TZOFFSETFROM:-0600
TZOFFSETTO:-0500
TZNAME:CDT
DTSTART:20250309T080000
END:DAYLIGHT
BEGIN:STANDARD
TZOFFSETFROM:-0500
TZOFFSETTO:-0600
TZNAME:CST
DTSTART:20251102T070000
END:STANDARD
BEGIN:DAYLIGHT
TZOFFSETFROM:-0600
TZOFFSETTO:-0500
TZNAME:CDT
DTSTART:20260308T080000
END:DAYLIGHT
BEGIN:STANDARD
TZOFFSETFROM:-0500
TZOFFSETTO:-0600
TZNAME:CST
DTSTART:20261101T070000
END:STANDARD
BEGIN:DAYLIGHT
TZOFFSETFROM:-0600
TZOFFSETTO:-0500
TZNAME:CDT
DTSTART:20270314T080000
END:DAYLIGHT
BEGIN:STANDARD
TZOFFSETFROM:-0500
TZOFFSETTO:-0600
TZNAME:CST
DTSTART:20271107T070000
END:STANDARD
END:VTIMEZONE
BEGIN:VEVENT
DTSTART;TZID=America/Winnipeg:20260312T100000
DTEND;TZID=America/Winnipeg:20260315T170000
DTSTAMP:20260422T231128
CREATED:20260122T194924Z
LAST-MODIFIED:20260122T194924Z
UID:602125087-1773309600-1773594000@dev.winnipegfreepress.com
SUMMARY:Winnipeg Rock N’ Gem Show
DESCRIPTION:March 12–15\, 2026\nRed River Exhibition Place\n3977 Portage Avenue\, Winnipeg\, Manitoba\nEnter a space where the wonder of the natural world unfolds in every detail. The Winnipeg Rock N’ Gem Show brings together the finest expressions of earth’s artistry—crystals glowing with inner fire\, fossils whispering tales of distant ages\, and gemstones refined by time into works of pure beauty. It’s an experience that celebrates both the mystery and the magnificence of our planet.\nJoin us for four unforgettable days of discovery and connection.\nShow Hours\nThursday to Saturday | 10:00 AM – 8:00 PM\nSunday | 10:00 AM – 5:00 PM\nSpecial Feature: UV Exclusive Event\nFriday\, March 13 | 8:00 PM – 10:00 PM\nExperience the brilliance of minerals that glow under ultraviolet light during this captivating after-hours event.\nRSVP for UV Exclusive required: 587-377-5722\nDetails\n• Admission: $3 single | $7 family | Children 5 & under free\n• Free parking available on site\n• Service animals permitted\n• All forms of payment accepted\n• Tickets available for purchase at the door\nWant a sneak peek before showtime?\nFollow Silver Cove on TikTok\, Instagram\, and YouTube for crystal hauls\, fossil finds\, and behind-the-scenes previews.
URL:https://dev.winnipegfreepress.com/event/winnipeg-rock-n-gem-show
LOCATION:Red River Exibition Park\, 3977 Portage Ave.\, WINNIPEG\, MB\, R3K 2E8\, Canada
ATTACH;FMTTYPE=image/png:https://dev.winnipegfreepress.com/wp-content/uploads/sites/2/2026/01/Winnipeg-Spring-2026-4.png
END:VEVENT
END:VCALENDAR