BEGIN:VCALENDAR
VERSION:2.0
PRODID:-//Winnipeg Free Press - ECPv6.15.20//NONSGML v1.0//EN
CALSCALE:GREGORIAN
METHOD:PUBLISH
X-WR-CALNAME:Winnipeg Free Press
X-ORIGINAL-URL:https://dev.winnipegfreepress.com
X-WR-CALDESC:Events for Winnipeg Free Press
REFRESH-INTERVAL;VALUE=DURATION:PT1H
X-Robots-Tag:noindex
X-PUBLISHED-TTL:PT1H
BEGIN:VTIMEZONE
TZID:America/Winnipeg
BEGIN:DAYLIGHT
TZOFFSETFROM:-0600
TZOFFSETTO:-0500
TZNAME:CDT
DTSTART:20250309T080000
END:DAYLIGHT
BEGIN:STANDARD
TZOFFSETFROM:-0500
TZOFFSETTO:-0600
TZNAME:CST
DTSTART:20251102T070000
END:STANDARD
BEGIN:DAYLIGHT
TZOFFSETFROM:-0600
TZOFFSETTO:-0500
TZNAME:CDT
DTSTART:20260308T080000
END:DAYLIGHT
BEGIN:STANDARD
TZOFFSETFROM:-0500
TZOFFSETTO:-0600
TZNAME:CST
DTSTART:20261101T070000
END:STANDARD
BEGIN:DAYLIGHT
TZOFFSETFROM:-0600
TZOFFSETTO:-0500
TZNAME:CDT
DTSTART:20270314T080000
END:DAYLIGHT
BEGIN:STANDARD
TZOFFSETFROM:-0500
TZOFFSETTO:-0600
TZNAME:CST
DTSTART:20271107T070000
END:STANDARD
END:VTIMEZONE
BEGIN:VEVENT
DTSTART;TZID=America/Winnipeg:20260305T090000
DTEND;TZID=America/Winnipeg:20260305T100000
DTSTAMP:20260423T033815
CREATED:20260226T194435Z
LAST-MODIFIED:20260226T194435Z
UID:602186655-1772701200-1772704800@dev.winnipegfreepress.com
SUMMARY:From Firewood to Freedom
DESCRIPTION:What’s the connection between firewood and freedom? \nJoin MCIC for a one-hour webinar celebrating the recipients of the 2026 Development Impact Awards. \nThis special conversation will feature World Vision Sri Lanka and Canada\, highlighting their work in the community of Bogawantalawa. Through a strategic combination of innovative cooking stoves and women-led agriculture initiatives\, the project has helped address long-standing barriers facing women and strengthened women’s leadership and decision-making power within the community. \nDiscover how something as simple as a cooking stove can become a catalyst for women’s empowerment and sustainable community impact. \nRegister to attend and learn more about this inspiring initiative.
URL:https://dev.winnipegfreepress.com/event/from-firewood-to-freedom
LOCATION:Online via Zoom
ATTACH;FMTTYPE=image/jpeg:https://dev.winnipegfreepress.com/wp-content/uploads/sites/2/2026/02/event-220-thumb-large.jpg
END:VEVENT
END:VCALENDAR