BEGIN:VCALENDAR
VERSION:2.0
PRODID:-//Winnipeg Free Press - ECPv6.15.20//NONSGML v1.0//EN
CALSCALE:GREGORIAN
METHOD:PUBLISH
X-ORIGINAL-URL:https://dev.winnipegfreepress.com
X-WR-CALDESC:Events for Winnipeg Free Press
REFRESH-INTERVAL;VALUE=DURATION:PT1H
X-Robots-Tag:noindex
X-PUBLISHED-TTL:PT1H
BEGIN:VTIMEZONE
TZID:America/Winnipeg
BEGIN:DAYLIGHT
TZOFFSETFROM:-0600
TZOFFSETTO:-0500
TZNAME:CDT
DTSTART:20250309T080000
END:DAYLIGHT
BEGIN:STANDARD
TZOFFSETFROM:-0500
TZOFFSETTO:-0600
TZNAME:CST
DTSTART:20251102T070000
END:STANDARD
BEGIN:DAYLIGHT
TZOFFSETFROM:-0600
TZOFFSETTO:-0500
TZNAME:CDT
DTSTART:20260308T080000
END:DAYLIGHT
BEGIN:STANDARD
TZOFFSETFROM:-0500
TZOFFSETTO:-0600
TZNAME:CST
DTSTART:20261101T070000
END:STANDARD
BEGIN:DAYLIGHT
TZOFFSETFROM:-0600
TZOFFSETTO:-0500
TZNAME:CDT
DTSTART:20270314T080000
END:DAYLIGHT
BEGIN:STANDARD
TZOFFSETFROM:-0500
TZOFFSETTO:-0600
TZNAME:CST
DTSTART:20271107T070000
END:STANDARD
END:VTIMEZONE
BEGIN:VEVENT
DTSTART;TZID=America/Winnipeg:20260214T190000
DTEND;TZID=America/Winnipeg:20260214T210000
DTSTAMP:20260425T112906
CREATED:20260109T051412Z
LAST-MODIFIED:20260109T051412Z
UID:602101448-1771095600-1771102800@dev.winnipegfreepress.com
SUMMARY:Shivers & Shimmies Gala Bellydance Show
DESCRIPTION:The Winnipeg bellydance community is incredibly excited to present our sixth Shivers & Shimmies gala show\, with all new performances. We’ve got a variety of local bellydancers\, and this time\, we’re bringing along a special guest: international bellydance star Pierre Khoury of Montreal! He’s only here this one weekend\, so don’t miss it.
URL:https://dev.winnipegfreepress.com/event/shivers-shimmies-gala-bellydance-show
LOCATION:Rachel Browne Theatre\, 411 Bannatyne Ave\, Winnipeg\, Manitoba\, R3A 0E9\, Canada
ATTACH;FMTTYPE=image/jpeg:https://dev.winnipegfreepress.com/wp-content/uploads/sites/2/2026/01/shiversnshimmiesshare.jpg
END:VEVENT
END:VCALENDAR