BEGIN:VCALENDAR
VERSION:2.0
PRODID:-//Winnipeg Free Press - ECPv6.15.20//NONSGML v1.0//EN
CALSCALE:GREGORIAN
METHOD:PUBLISH
X-WR-CALNAME:Winnipeg Free Press
X-ORIGINAL-URL:https://dev.winnipegfreepress.com
X-WR-CALDESC:Events for Winnipeg Free Press
REFRESH-INTERVAL;VALUE=DURATION:PT1H
X-Robots-Tag:noindex
X-PUBLISHED-TTL:PT1H
BEGIN:VTIMEZONE
TZID:America/Winnipeg
BEGIN:DAYLIGHT
TZOFFSETFROM:-0600
TZOFFSETTO:-0500
TZNAME:CDT
DTSTART:20250309T080000
END:DAYLIGHT
BEGIN:STANDARD
TZOFFSETFROM:-0500
TZOFFSETTO:-0600
TZNAME:CST
DTSTART:20251102T070000
END:STANDARD
BEGIN:DAYLIGHT
TZOFFSETFROM:-0600
TZOFFSETTO:-0500
TZNAME:CDT
DTSTART:20260308T080000
END:DAYLIGHT
BEGIN:STANDARD
TZOFFSETFROM:-0500
TZOFFSETTO:-0600
TZNAME:CST
DTSTART:20261101T070000
END:STANDARD
BEGIN:DAYLIGHT
TZOFFSETFROM:-0600
TZOFFSETTO:-0500
TZNAME:CDT
DTSTART:20270314T080000
END:DAYLIGHT
BEGIN:STANDARD
TZOFFSETFROM:-0500
TZOFFSETTO:-0600
TZNAME:CST
DTSTART:20271107T070000
END:STANDARD
END:VTIMEZONE
BEGIN:VEVENT
DTSTART;TZID=America/Winnipeg:20260228T100000
DTEND;TZID=America/Winnipeg:20260228T170000
DTSTAMP:20260425T204054
CREATED:20260112T173955Z
LAST-MODIFIED:20260126T190117Z
UID:602107715-1772272800-1772298000@dev.winnipegfreepress.com
SUMMARY:Children's Hospital Book Market Comic Book Sale
DESCRIPTION:The Children’s Hospital Book Market is hosting a one-day comic book sale in support of sick and injured kids! \nShop for your favourite comics Saturday\, February 28 from 10 am – 5 pm at St. Vital Centre in the Centre Court to help kids who need your children’s hospital.
URL:https://dev.winnipegfreepress.com/event/childrens-hospital-book-market-comic-book-sale
LOCATION:St. Vital Centre\, 1225 St. Mary's Rd\, Winnipeg\, MB\, Canada
ATTACH;FMTTYPE=image/png:https://dev.winnipegfreepress.com/wp-content/uploads/sites/2/2026/01/2026-Feb-Comic-Book-Market-FB-and-TW-size.png
END:VEVENT
END:VCALENDAR