BEGIN:VCALENDAR
VERSION:2.0
PRODID:-//Winnipeg Free Press - ECPv6.15.20//NONSGML v1.0//EN
CALSCALE:GREGORIAN
METHOD:PUBLISH
X-ORIGINAL-URL:https://dev.winnipegfreepress.com
X-WR-CALDESC:Events for Winnipeg Free Press
REFRESH-INTERVAL;VALUE=DURATION:PT1H
X-Robots-Tag:noindex
X-PUBLISHED-TTL:PT1H
BEGIN:VTIMEZONE
TZID:America/Winnipeg
BEGIN:DAYLIGHT
TZOFFSETFROM:-0600
TZOFFSETTO:-0500
TZNAME:CDT
DTSTART:20250309T080000
END:DAYLIGHT
BEGIN:STANDARD
TZOFFSETFROM:-0500
TZOFFSETTO:-0600
TZNAME:CST
DTSTART:20251102T070000
END:STANDARD
BEGIN:DAYLIGHT
TZOFFSETFROM:-0600
TZOFFSETTO:-0500
TZNAME:CDT
DTSTART:20260308T080000
END:DAYLIGHT
BEGIN:STANDARD
TZOFFSETFROM:-0500
TZOFFSETTO:-0600
TZNAME:CST
DTSTART:20261101T070000
END:STANDARD
BEGIN:DAYLIGHT
TZOFFSETFROM:-0600
TZOFFSETTO:-0500
TZNAME:CDT
DTSTART:20270314T080000
END:DAYLIGHT
BEGIN:STANDARD
TZOFFSETFROM:-0500
TZOFFSETTO:-0600
TZNAME:CST
DTSTART:20271107T070000
END:STANDARD
END:VTIMEZONE
BEGIN:VEVENT
DTSTART;TZID=America/Winnipeg:20260306T070000
DTEND;TZID=America/Winnipeg:20260306T090000
DTSTAMP:20260420T004258
CREATED:20260211T145547Z
LAST-MODIFIED:20260211T145547Z
UID:602155678-1772780400-1772787600@dev.winnipegfreepress.com
SUMMARY:Habitat for Humanity Manitoba Women Build Foundation Forward Breakfast
DESCRIPTION:Join us for the Women Build: Foundation Forward Breakfast in celebration of International Women’s Day on Friday\, March 6\, 2026\, at the RBC Convention Centre. Enjoy a delicious buffet breakfast and hear from two inspiring women in our community\, Morgan Wielgosz and Amber Sarraillon\, the first all-female and 2SLGBTQ+ owned and operated brewery in Manitoba – Good Neighbour Brewing Co. \nPresenting Sponsor: Qualico
URL:https://dev.winnipegfreepress.com/event/habitat-for-humanity-manitoba-women-build-foundation-forward-breakfast
LOCATION:RBC Convention Center\, 375 York Ave\, Winnipeg\, Manitoba\, R3C 3J3\, Canada
CATEGORIES:Media Literacy & Learning
ATTACH;FMTTYPE=image/png:https://dev.winnipegfreepress.com/wp-content/uploads/sites/2/2026/02/Foundation-Forward-Web-Banner-1920-x-600.png
END:VEVENT
END:VCALENDAR