BEGIN:VCALENDAR
VERSION:2.0
PRODID:-//Winnipeg Free Press - ECPv6.15.20//NONSGML v1.0//EN
CALSCALE:GREGORIAN
METHOD:PUBLISH
X-ORIGINAL-URL:https://dev.winnipegfreepress.com
X-WR-CALDESC:Events for Winnipeg Free Press
REFRESH-INTERVAL;VALUE=DURATION:PT1H
X-Robots-Tag:noindex
X-PUBLISHED-TTL:PT1H
BEGIN:VTIMEZONE
TZID:America/Winnipeg
BEGIN:DAYLIGHT
TZOFFSETFROM:-0600
TZOFFSETTO:-0500
TZNAME:CDT
DTSTART:20250309T080000
END:DAYLIGHT
BEGIN:STANDARD
TZOFFSETFROM:-0500
TZOFFSETTO:-0600
TZNAME:CST
DTSTART:20251102T070000
END:STANDARD
BEGIN:DAYLIGHT
TZOFFSETFROM:-0600
TZOFFSETTO:-0500
TZNAME:CDT
DTSTART:20260308T080000
END:DAYLIGHT
BEGIN:STANDARD
TZOFFSETFROM:-0500
TZOFFSETTO:-0600
TZNAME:CST
DTSTART:20261101T070000
END:STANDARD
BEGIN:DAYLIGHT
TZOFFSETFROM:-0600
TZOFFSETTO:-0500
TZNAME:CDT
DTSTART:20270314T080000
END:DAYLIGHT
BEGIN:STANDARD
TZOFFSETFROM:-0500
TZOFFSETTO:-0600
TZNAME:CST
DTSTART:20271107T070000
END:STANDARD
END:VTIMEZONE
BEGIN:VEVENT
DTSTART;TZID=America/Winnipeg:20260425T090000
DTEND;TZID=America/Winnipeg:20260425T160000
DTSTAMP:20260420T050829
CREATED:20260114T201820Z
LAST-MODIFIED:20260126T185707Z
UID:602112033-1777107600-1777132800@dev.winnipegfreepress.com
SUMMARY:Manitoba Photo Events presents CURTIS JONES
DESCRIPTION:Photographers who enjoy being inspired through a presentation will enjoy attending this all day event.  The event also offers an opportunity to meet other photographers and share experiences.  This all day event includes parking and lunch.  For more information on the presentation topics and to register\, go to: \nPresenting Curtis Jones
URL:https://dev.winnipegfreepress.com/event/manitoba-photo-events-presents-curtis-jones
LOCATION:University of Manitoba\, 65 Chancellor Circle\, Winnipeg\, Manitoba\, R3T 2N2\, Canada
ATTACH;FMTTYPE=image/jpeg:https://dev.winnipegfreepress.com/wp-content/uploads/sites/2/2026/01/Curtis-Jones-Poster-April-25-2026-U-of-M.jpg
END:VEVENT
BEGIN:VEVENT
DTSTART;TZID=America/Winnipeg:20260427T060000
DTEND;TZID=America/Winnipeg:20260427T180000
DTSTAMP:20260420T050829
CREATED:20251225T153047Z
LAST-MODIFIED:20260126T185058Z
UID:602082660-1777269600-1777312800@dev.winnipegfreepress.com
SUMMARY:Archspire: Long Roads Big Loads Tour
DESCRIPTION:“Welcome to the Park Theatre in Winnipeg\, Manitoba! Get ready to witness a mind-blowing performance by the one and only Archspire on April 27\, 2026 at 6:00 PM. Known for their unparalleled energy and technical prowess\, Archspire promises a show like no other.  \nThe Park Theatre\, located in the heart of Winnipeg\, provides an intimate setting where you can truly immerse yourself in the music. With its cozy atmosphere and top-notch sound system\, every note from Archspire is sure to resonate with you. Plus\, the venue’s central location makes it easily accessible for fans from all over the city. \nDon’t miss your chance to experience Archspire live at the Park Theatre – Winnipeg. Book your tickets now and get ready for a night of pure musical magic. See you there!”
URL:https://dev.winnipegfreepress.com/event/archspire-long-roads-big-loads-tour
LOCATION:Manitoba
END:VEVENT
BEGIN:VEVENT
DTSTART;TZID=America/Winnipeg:20260427T190000
DTEND;TZID=America/Winnipeg:20260427T203000
DTSTAMP:20260420T050829
CREATED:20260226T194435Z
LAST-MODIFIED:20260226T194435Z
UID:602177273-1777316400-1777321800@dev.winnipegfreepress.com
SUMMARY:The Soil: how is it doing?
DESCRIPTION:This workshop talks about an undeniable relationship with the sky and the soil. We strive to understand these connections to meet our needs. How have we done so far? How is the soil? How is the soil keeping it all together? Let’s chat about how the soil is doing and our individual and collective roles in ensuring that the soil continues to lend us the services we need for thriving now and for future generations. Instructor: Dr. Afua Mante
URL:https://dev.winnipegfreepress.com/event/the-soil-how-is-it-doing
LOCATION:Earl Grey Community Centre\, 360 Cockburn St. North\, Winnipeg\, Manitoba\, R3M 2P5\, Canada
ATTACH;FMTTYPE=image/jpeg:https://dev.winnipegfreepress.com/wp-content/uploads/sites/2/2026/02/Picture13.jpg
END:VEVENT
BEGIN:VEVENT
DTSTART;VALUE=DATE:20260429
DTEND;VALUE=DATE:20260524
DTSTAMP:20260420T050829
CREATED:20251204T162557Z
LAST-MODIFIED:20251204T162557Z
UID:602050262-1777420800-1779580799@dev.winnipegfreepress.com
SUMMARY:Rubaboo - A Métis Cabaret
DESCRIPTION:“There is a palpable sense of belonging from the moment the curtain rises. Menard welcomes the audience as if they are visiting her home.” – Broadway World  \nMétis singer-songwriter Andrea Menard’s feast for the senses blends master storytelling with the beauty of Métis culture through music\, dance and visual art.  \nDerived from the Michif word for “leftovers stew” or “big pot\,” Rubaboo blends diverse cultural influences and invites us to reflect on the ongoing journey of cultural preservation and pride. Featuring the sounds of drums and guitar\, this grand musical feast includes songs of reconciliation\, unity\, love and resilience.
URL:https://dev.winnipegfreepress.com/event/rubaboo-a-metis-cabaret
LOCATION:Royal Manitoba Theatre Centre\, 174 Market Ave\, Winnipeg\, Manitoba\, R3B 0P8\, Canada
ATTACH;FMTTYPE=image/jpeg:https://dev.winnipegfreepress.com/wp-content/uploads/sites/2/2025/12/RMTC_Carosel-7_Rubaboo_1200x1200_v2.jpg
END:VEVENT
BEGIN:VEVENT
DTSTART;TZID=America/Winnipeg:20260502T100000
DTEND;TZID=America/Winnipeg:20260502T150000
DTSTAMP:20260420T050829
CREATED:20260212T160201Z
LAST-MODIFIED:20260212T160201Z
UID:602163172-1777716000-1777734000@dev.winnipegfreepress.com
SUMMARY:MB Maker's Market at the Niverville Event Centre
DESCRIPTION:Join us as the Niverville Heritage Centre hosts the 2026 MB Makers Market\n –An Exclusive show for handmade items with over 70 vendors.  \nLocation: Niverville Heritage Centre\nEvent Entrance 100C Heritage Trail\nDate: Saturday May 2nd- NEW DATE\, 2026\nTime: 10:00 am-3:00 pm\nAdmission by Monetary Donation
URL:https://dev.winnipegfreepress.com/event/mb-makers-market-at-the-niverville-event-centre
LOCATION:Niverville Event Centre\, 100C Heritage trail\, Niverville\, Manitoba\, R0A0A1\, Canada
ATTACH;FMTTYPE=image/jpeg:https://dev.winnipegfreepress.com/wp-content/uploads/sites/2/2026/02/MB-Makers-Market-2026-Official-Poster-NEW-.jpg
END:VEVENT
BEGIN:VEVENT
DTSTART;TZID=America/Winnipeg:20260507T193000
DTEND;TZID=America/Winnipeg:20260510T163000
DTSTAMP:20260420T050829
CREATED:20260114T022300Z
LAST-MODIFIED:20260114T022300Z
UID:602110647-1778182200-1778430600@dev.winnipegfreepress.com
SUMMARY:Miss Holmes
DESCRIPTION:Join Miss Sherlock Holmes and Dr. Dorothy Watson as they work together to uncover the secrets surrounding a corrupt police inspector whose wives have a habit of turning up dead! These unconventional women\, trapped in an era that refuses to accept them\, must forge a bond of trust and work together through the dangers of 19th century London in this entertaining and delightfully fast-moving murder mystery. \nThe partner charity for this show is the North End Women’s Centre.
URL:https://dev.winnipegfreepress.com/event/miss-holmes
LOCATION:Martial-Caron Theatre\, Saint Boniface University\, 200 De La Cathedrale Ave\, Winnipeg\, Manitoba\, R2H 0H7\, Canada
ATTACH;FMTTYPE=image/png:https://dev.winnipegfreepress.com/wp-content/uploads/sites/2/2026/01/Holmes-Poster-Dec-1-s.png
END:VEVENT
BEGIN:VEVENT
DTSTART;TZID=America/Winnipeg:20260515T200000
DTEND;TZID=America/Winnipeg:20260515T220000
DTSTAMP:20260420T050829
CREATED:20251231T100123Z
LAST-MODIFIED:20251231T100123Z
UID:602088679-1778875200-1778882400@dev.winnipegfreepress.com
SUMMARY:Parabolus - Tool Tribute at Park Theatre - Winnipeg
DESCRIPTION:Welcome to the Park Theatre in Winnipeg\, Manitoba! Get ready for an unforgettable night with Parabolus – a riveting Tool tribute band that will blow you away with their incredible performance on May 15\, 2026\, at 8:00 PM.  \nWhat sets Parabolus apart is their uncanny ability to capture the essence and energy of Tool’s music\, making you feel like you’re experiencing the real thing. The passion and talent of the band members shine through in every note\, creating a truly immersive experience for all music lovers. \nLocated in the heart of Winnipeg\, Park Theatre offers a cozy and intimate atmosphere that will make you feel right at home. With its convenient location and easy accessibility\, you’ll have no trouble getting to the venue and settling in for a night of amazing music. \nDon’t miss out on this incredible opportunity to witness Parabolus – Tool Tribute at Park Theatre. Get your tickets now and join us for a night you won’t soon forget! See you there! \nVisit us or give us a call to secure your tickets and experience the magic of live music at Park Theatre in Winnipeg\, Manitoba.
URL:https://dev.winnipegfreepress.com/event/parabolus-tool-tribute-at-park-theatre-winnipeg
LOCATION:The Park Theatre\, 698 Osborne Street\, Winnipeg\, Manitoba\, R3L 2B9\, Canada
ATTACH;FMTTYPE=image/jpeg:https://dev.winnipegfreepress.com/wp-content/uploads/sites/2/2025/12/Parabolus-Tool-Tribute.jpg
END:VEVENT
BEGIN:VEVENT
DTSTART;TZID=America/Winnipeg:20260613T200000
DTEND;TZID=America/Winnipeg:20260613T220000
DTSTAMP:20260420T050829
CREATED:20251124T184540Z
LAST-MODIFIED:20260128T173954Z
UID:602024728-1781380800-1781388000@dev.winnipegfreepress.com
SUMMARY:Wintersleep
DESCRIPTION:Welcome to the Park Theatre in Winnipeg\, Manitoba! On June 13\, 2026\, get ready to be mesmerized by the incredible performance of Wintersleep at 8:00 PM. Known for their captivating melodies and powerful lyrics\, Wintersleep promises a night of unforgettable music that will leave you wanting more. \nThe Park Theatre is the perfect setting for this one-of-a-kind event. With its intimate atmosphere and top-notch sound quality\, you’ll feel like you’re experiencing the music up close and personal. Located in the heart of Winnipeg\, the venue is easily accessible and surrounded by plenty of dining and entertainment options. \nDon’t miss your chance to see Wintersleep live at Park Theatre – Winnipeg. Grab your tickets now for an evening filled with incredible music and unforgettable memories. Join us for a night you won’t soon forget! \nCome and experience the magic of live music at the Park Theatre. Book your tickets now and get ready for a night to remember. See you there!
URL:https://dev.winnipegfreepress.com/event/wintersleep
LOCATION:The Park Theatre\, 698 Osborne Street\, Winnipeg\, Manitoba\, R3L 2B9\, Canada
ATTACH;FMTTYPE=image/jpeg:https://dev.winnipegfreepress.com/wp-content/uploads/sites/2/2025/11/Wintersleep.jpg
END:VEVENT
BEGIN:VEVENT
DTSTART;VALUE=DATE:20260919
DTEND;VALUE=DATE:20260921
DTSTAMP:20260420T050829
CREATED:20260227T205109Z
LAST-MODIFIED:20260227T205109Z
UID:602191632-1789776000-1789948799@dev.winnipegfreepress.com
SUMMARY:Red River Paddle Challenge
DESCRIPTION:Get ready for a once-in-a-century celebration on the water—because this year’s Red River Paddle Challenge is an event you absolutely won’t want to miss. This year we are marking a monumental milestone: the 100-year anniversary of the legendary Les Voyageurs Canoe Race. \nIn 1926 Winnipeg Canoe Club Commodore Fred G. Thompson started a 100 km canoe challenge from Winnipeg to Lockport via the Winnipeg Canoe Club\, in honour of his brother\, Lieutenant Edward “Pace” Thompson. This iconic race helped define a century of grit\, endurance\, and deep connection to Manitoba’s waterways\, one we are proud to continue today! \nThis year’s Red River Paddle Challenge will weave the heritage of Canada’s longest-running canoe race into a vibrant\, modern celebration—uniting past and present through special centennial programming. \nSpecial events will include a historical party at The Forks Historic Port including re-enactments\, historical displays and celebrations. We will also release special edition swag and the opportunity to participate in the 110 km Les Voyageurs Challenge! \nBy hosting this historic year\, the Red River Paddle Challenge isn’t just paying tribute to a rugged paddling tradition—it’s reigniting a purpose that has inspired generations: to explore\, respect\, and celebrate the rivers that have shaped our shared heritage. This is more than a race. It’s a living story. And this year\, you’ll want to be part of it! \nFor 2026 we will be offering two race distances for paddlers to choose from! Both distances are open to all paddle craft. Prizes are awarded for both races. \nRed River Paddle Challenge\nThe Red River Paddle Challenge (RRPC) is a 44 kilometre (~27 miles) long distance single day paddling race on the Red River beginning in Winnipeg\, Manitoba and ending down river in Lockport\, Manitoba. \nLes Voyageurs Challenge\nLes Voyageurs Challenge is a 110 kilometer (~68 miles) ultra distance paddling race on the Red River beginning in Ste Agathe\, Manitoba and ending down river in Lockport\, Manitoba. Les Voyageurs is a two-day staged race where participants paddle from Ste Agathe to The Forks Historic Port in Winnipeg on day one and then on day two participants join in with the Red River Paddle Challenge paddlers and paddle to Lockport.
URL:https://dev.winnipegfreepress.com/event/red-river-paddle-challenge
LOCATION:The Forks\, Forks Market Rd\, Winnipeg\, Manitoba\, R3C 4S8\, Canada
ATTACH;FMTTYPE=image/png:https://dev.winnipegfreepress.com/wp-content/uploads/sites/2/2026/02/RRPC-2026.png
END:VEVENT
BEGIN:VEVENT
DTSTART;TZID=America/Winnipeg:20261107T100000
DTEND;TZID=America/Winnipeg:20261107T150000
DTSTAMP:20260420T050829
CREATED:20260212T160201Z
LAST-MODIFIED:20260212T160201Z
UID:602163134-1794045600-1794063600@dev.winnipegfreepress.com
SUMMARY:Winterfest 2026 At the Niverville Event Centre
DESCRIPTION:Winterfest 2026 -a Craft Show & Market\nGet ready to immerse yourself in a world of creativity\, craftsmanship\, and community! ❤ \n🗓️ Date: Saturday\, November 7th\, 2026 – NEW DATE\n🕒 Time: 10am – 3pm\n🏢 Location: Niverville Event Centre – located in the Niverville Heritage Centre\nEntrance 100C Heritage Trail or the Coop Pharmacy Entrance (2nd Ave Entrance)\nWhat can you expect?\nOver -90- talented artisans & vendors showcasing their unique creations and home based business’s selling everything from home baked goods to home décor to everything in between.\nAdmission: By monetary Donation
URL:https://dev.winnipegfreepress.com/event/winterfest-2026-at-the-niverville-event-centre
LOCATION:Niverville Event Centre\, 100C Heritage trail\, Niverville\, Manitoba\, R0A0A1\, Canada
ATTACH;FMTTYPE=image/jpeg:https://dev.winnipegfreepress.com/wp-content/uploads/sites/2/2026/02/Save-the-Date-2026-Winterfest-NEW.jpg
END:VEVENT
END:VCALENDAR