BEGIN:VCALENDAR
VERSION:2.0
PRODID:-//Winnipeg Free Press - ECPv6.15.20//NONSGML v1.0//EN
CALSCALE:GREGORIAN
METHOD:PUBLISH
X-WR-CALNAME:Winnipeg Free Press
X-ORIGINAL-URL:https://dev.winnipegfreepress.com
X-WR-CALDESC:Events for Winnipeg Free Press
REFRESH-INTERVAL;VALUE=DURATION:PT1H
X-Robots-Tag:noindex
X-PUBLISHED-TTL:PT1H
BEGIN:VTIMEZONE
TZID:America/Winnipeg
BEGIN:DAYLIGHT
TZOFFSETFROM:-0600
TZOFFSETTO:-0500
TZNAME:CDT
DTSTART:20250309T080000
END:DAYLIGHT
BEGIN:STANDARD
TZOFFSETFROM:-0500
TZOFFSETTO:-0600
TZNAME:CST
DTSTART:20251102T070000
END:STANDARD
BEGIN:DAYLIGHT
TZOFFSETFROM:-0600
TZOFFSETTO:-0500
TZNAME:CDT
DTSTART:20260308T080000
END:DAYLIGHT
BEGIN:STANDARD
TZOFFSETFROM:-0500
TZOFFSETTO:-0600
TZNAME:CST
DTSTART:20261101T070000
END:STANDARD
BEGIN:DAYLIGHT
TZOFFSETFROM:-0600
TZOFFSETTO:-0500
TZNAME:CDT
DTSTART:20270314T080000
END:DAYLIGHT
BEGIN:STANDARD
TZOFFSETFROM:-0500
TZOFFSETTO:-0600
TZNAME:CST
DTSTART:20271107T070000
END:STANDARD
END:VTIMEZONE
BEGIN:VEVENT
DTSTART;VALUE=DATE:20260429
DTEND;VALUE=DATE:20260524
DTSTAMP:20260423T024750
CREATED:20251204T162557Z
LAST-MODIFIED:20251204T162557Z
UID:602050262-1777420800-1779580799@dev.winnipegfreepress.com
SUMMARY:Rubaboo - A Métis Cabaret
DESCRIPTION:“There is a palpable sense of belonging from the moment the curtain rises. Menard welcomes the audience as if they are visiting her home.” – Broadway World  \nMétis singer-songwriter Andrea Menard’s feast for the senses blends master storytelling with the beauty of Métis culture through music\, dance and visual art.  \nDerived from the Michif word for “leftovers stew” or “big pot\,” Rubaboo blends diverse cultural influences and invites us to reflect on the ongoing journey of cultural preservation and pride. Featuring the sounds of drums and guitar\, this grand musical feast includes songs of reconciliation\, unity\, love and resilience.
URL:https://dev.winnipegfreepress.com/event/rubaboo-a-metis-cabaret
LOCATION:Royal Manitoba Theatre Centre\, 174 Market Ave\, Winnipeg\, Manitoba\, R3B 0P8\, Canada
ATTACH;FMTTYPE=image/jpeg:https://dev.winnipegfreepress.com/wp-content/uploads/sites/2/2025/12/RMTC_Carosel-7_Rubaboo_1200x1200_v2.jpg
END:VEVENT
BEGIN:VEVENT
DTSTART;TZID=America/Winnipeg:20260515T200000
DTEND;TZID=America/Winnipeg:20260515T220000
DTSTAMP:20260423T024750
CREATED:20251231T100123Z
LAST-MODIFIED:20251231T100123Z
UID:602088679-1778875200-1778882400@dev.winnipegfreepress.com
SUMMARY:Parabolus - Tool Tribute at Park Theatre - Winnipeg
DESCRIPTION:Welcome to the Park Theatre in Winnipeg\, Manitoba! Get ready for an unforgettable night with Parabolus – a riveting Tool tribute band that will blow you away with their incredible performance on May 15\, 2026\, at 8:00 PM.  \nWhat sets Parabolus apart is their uncanny ability to capture the essence and energy of Tool’s music\, making you feel like you’re experiencing the real thing. The passion and talent of the band members shine through in every note\, creating a truly immersive experience for all music lovers. \nLocated in the heart of Winnipeg\, Park Theatre offers a cozy and intimate atmosphere that will make you feel right at home. With its convenient location and easy accessibility\, you’ll have no trouble getting to the venue and settling in for a night of amazing music. \nDon’t miss out on this incredible opportunity to witness Parabolus – Tool Tribute at Park Theatre. Get your tickets now and join us for a night you won’t soon forget! See you there! \nVisit us or give us a call to secure your tickets and experience the magic of live music at Park Theatre in Winnipeg\, Manitoba.
URL:https://dev.winnipegfreepress.com/event/parabolus-tool-tribute-at-park-theatre-winnipeg
LOCATION:The Park Theatre\, 698 Osborne Street\, Winnipeg\, Manitoba\, R3L 2B9\, Canada
ATTACH;FMTTYPE=image/jpeg:https://dev.winnipegfreepress.com/wp-content/uploads/sites/2/2025/12/Parabolus-Tool-Tribute.jpg
END:VEVENT
END:VCALENDAR