BEGIN:VCALENDAR
VERSION:2.0
PRODID:-//Winnipeg Free Press - ECPv6.15.20//NONSGML v1.0//EN
CALSCALE:GREGORIAN
METHOD:PUBLISH
X-ORIGINAL-URL:https://dev.winnipegfreepress.com
X-WR-CALDESC:Events for Winnipeg Free Press
REFRESH-INTERVAL;VALUE=DURATION:PT1H
X-Robots-Tag:noindex
X-PUBLISHED-TTL:PT1H
BEGIN:VTIMEZONE
TZID:America/Winnipeg
BEGIN:DAYLIGHT
TZOFFSETFROM:-0600
TZOFFSETTO:-0500
TZNAME:CDT
DTSTART:20250309T080000
END:DAYLIGHT
BEGIN:STANDARD
TZOFFSETFROM:-0500
TZOFFSETTO:-0600
TZNAME:CST
DTSTART:20251102T070000
END:STANDARD
BEGIN:DAYLIGHT
TZOFFSETFROM:-0600
TZOFFSETTO:-0500
TZNAME:CDT
DTSTART:20260308T080000
END:DAYLIGHT
BEGIN:STANDARD
TZOFFSETFROM:-0500
TZOFFSETTO:-0600
TZNAME:CST
DTSTART:20261101T070000
END:STANDARD
BEGIN:DAYLIGHT
TZOFFSETFROM:-0600
TZOFFSETTO:-0500
TZNAME:CDT
DTSTART:20270314T080000
END:DAYLIGHT
BEGIN:STANDARD
TZOFFSETFROM:-0500
TZOFFSETTO:-0600
TZNAME:CST
DTSTART:20271107T070000
END:STANDARD
END:VTIMEZONE
BEGIN:VEVENT
DTSTART;TZID=America/Winnipeg:20260115T090000
DTEND;TZID=America/Winnipeg:20260411T200000
DTSTAMP:20260422T124433
CREATED:20260226T194435Z
LAST-MODIFIED:20260226T194435Z
UID:602187405-1768467600-1775937600@dev.winnipegfreepress.com
SUMMARY:sans FLASH – Exposition de Photos | Photo Exhibition
DESCRIPTION:Revenir au geste. Ralentir le regard. Avant le pixel\, il y a l’émotion. Moins d’écrans. Plus de matière.  \nDu 15 janvier au 11 avril 2026\, une toute nouvelle exposition pour vous : “sans FLASH”. Venez découvrir des univers uniques et perdre votre regard dans des photographies analogiques contemporaines\, qui vous invitent à explorer les univers singuliers des artistes Gavin Boutroy\, Alexandre Normandeau et Philippe Bellefeuille. \nDu lundi au dimanche | 9h-20h\, entrée libre.  \n— \nReturn to the gesture. Slow down your gaze. Before the pixel\, there is emotion. Fewer screens. More substance.  \nFrom January 15 to April 11\, 2026\, a brand new exhibition for you: “sans FLASH” (without FLASH). Come and discover unique worlds and lose yourself in contemporary analog photographs that invite you to explore the singular universes of artists Gavin Boutroy\, Alexandre Normandeau\, and Philippe Bellefeuille. \nMonday to Sunday | 9 a.m. to 8 p.m.\, free admission.
URL:https://dev.winnipegfreepress.com/event/sans-flash-exposition-de-photos-photo-exhibition
LOCATION:Manitoba
ATTACH;FMTTYPE=image/png:https://dev.winnipegfreepress.com/wp-content/uploads/sites/2/2026/02/02.-sans-Flash-1080x1080-sans-Flash-carre.png
END:VEVENT
BEGIN:VEVENT
DTSTART;TZID=America/Winnipeg:20260306T100000
DTEND;TZID=America/Winnipeg:20260404T170000
DTSTAMP:20260422T124433
CREATED:20260112T171211Z
LAST-MODIFIED:20260112T171211Z
UID:602107563-1772791200-1775322000@dev.winnipegfreepress.com
SUMMARY:Soulful Seasons\, Transitions of Change by Jordan Miller
DESCRIPTION:Exhibition Hours:\nMarch 6: 10am to 9pm\nMarch 7 to April 4\, 10 am to 4pm Tuesday to Friday; Saturday 12-5pm.\nGood Friday\, April 3: 6-9pm (closed during daytime hours) \nhttps://www.210gallery.ca/exhibitions \nReaching deep on an emotional level\, striving to create art infused with soul and beauty\, the works presented in this exhibition resonate beyond the surface idea of abstracted landscapes. This process has become an essential part of my artistic identity\, grounded in the exploration of emotion\, connection\, and reflection. \nEach piece unfolds through the layering of multiple alcohol ink colour blends\, manipulated through droplets\, brushes\, knives\, and other tools\, revealing complexity and harmony. The final layer\, featuring carefully and randomly placed lines and dots in acrylic\, suggests a journey that is more controlled than the flow of ink in the layers below\, while following the path presented.  The dots move rhythmically across the surface like steps on a life map\, representing the paths we walk\, the choices we make\, and the passage of time. \nThe act of applying each dot is both deliberate and meditative\, a process that bridges the visual and the introspective. Working on these pieces reflects a moment of contemplation\, an opportunity to process the truths in the news\, in life\, and in my health journey.  Each piece translates into something tangible\, luminous\, and deeply human.  \nMy artwork continues to evolve as life around me changes. The big shifts that unfolded in 2025 have brought new perspectives\, adventures\, and moments to process\, each one finding its way into the work as it grows and transforms. \nBio:\nJordan Miller\, a Winnipeg artist\, graduated with a Bachelor of Fine Arts degree from the University of Manitoba in 2002. She holds a diploma in Arts and Cultural Management from the University of Winnipeg. She was the founder and owner of cre8ery gallery & studio for 18.5 years before closing May 1\, 2025 to become a full-time artist and part time art mentor. \n​​She was the recipient of the 35th Annual Woman of Distinction Award\, in the Arts Category (2011) and she was one of three finalists for the Future Leaders Of Manitoba Awards (2015).\n​\n​Jordan has exhibited at Pulse Gallery\, Birchwood Art Gallery\, Fleet Galleries\, cre8ery\, Gallery Lacosse\, Urban Shaman Gallery\, Gallery 111\, outworks\, Gallery of Southwestern Manitoba Gift Shop\, Gallery in the Park\, Prairie Fusion\, Gallery 210\, and Golden Prairie Arts Council. \n​She is a member of Manitoba Society of Artists\, Creative Manitoba\, Manitoba Arts Network\, Artists AccessAbility Network Manitoba and Mentoring Art for Women’s Art (MAWA). She is collected across Canada\, the United States and in several countries around the world.  She is collected by the Province of Manitoba and by Winnipeg incorporated businesses.
URL:https://dev.winnipegfreepress.com/event/soulful-seasons-transitions-of-change-by-jordan-miller
LOCATION:210 Gallery\, 210 Princess Street\, Winnipeg\, Manitoba\, R3B1L4\, Canada
ATTACH;FMTTYPE=image/jpeg:https://dev.winnipegfreepress.com/wp-content/uploads/sites/2/2026/01/Fall-Sliding-in-Stage-Right.jpg
END:VEVENT
BEGIN:VEVENT
DTSTART;TZID=America/Winnipeg:20260311T080000
DTEND;TZID=America/Winnipeg:20260311T160000
DTSTAMP:20260422T124433
CREATED:20260123T185153Z
LAST-MODIFIED:20260123T185153Z
UID:602127232-1773216000-1773244800@dev.winnipegfreepress.com
SUMMARY:Leading by Example Geothermal Conference
DESCRIPTION:Our one-day “Leading by Example” conference on Wednesday\, March 11\, 2026 will highlight several residential\, multi-unit residential\, commercial and recreational geothermal projects not just in Manitoba but North America. The conference will include innovations in our industries products\, geothermal system design\, and geothermal installations. Existing and emerging financing programs\, incentive programs\, business opportunities\, training opportunities\, regulations and the future of the geothermal industry in Manitoba will all be discussed. \nThere will be exhibitors throughout the conference in addition to a Ground Heat Exchanger (GHX) Show and Shine in the parking lot. \nFor more information and the agenda\, visit our website: www.mgea.ca/geo2026/
URL:https://dev.winnipegfreepress.com/event/leading-by-example-geothermal-conference
LOCATION:Victoria Inn\, 1808 Wellington Ave\, Winnipeg\, MB R3H 0G3\, Winnipeg\, Manitoba\, R3H 0G3\, Canada
ATTACH;FMTTYPE=image/jpeg:https://dev.winnipegfreepress.com/wp-content/uploads/sites/2/2026/01/Conference.jpg
END:VEVENT
BEGIN:VEVENT
DTSTART;TZID=America/Winnipeg:20260311T100000
DTEND;TZID=America/Winnipeg:20260311T140000
DTSTAMP:20260422T124433
CREATED:20260217T144949Z
LAST-MODIFIED:20260217T144949Z
UID:602172143-1773223200-1773237600@dev.winnipegfreepress.com
SUMMARY:Portage Place Pop Up Market
DESCRIPTION:From local makers\, to mall promotions\, and community organizations\, this Pop Up has a lot to offer! Play some games\, create art\, and enter your chance to win a pair of tickets to see the Winnipeg Jets play on March 17! \nFree Entry! Fun for all ages! \nPortage Place Mall is open during renovations! We are located in the middle aisles of the mall!
URL:https://dev.winnipegfreepress.com/event/portage-place-pop-up-market
LOCATION:Manitoba
ATTACH;FMTTYPE=image/png:https://dev.winnipegfreepress.com/wp-content/uploads/sites/2/2026/02/March-11-Pop-Up.png
END:VEVENT
BEGIN:VEVENT
DTSTART;TZID=America/Winnipeg:20260311T190000
DTEND;TZID=America/Winnipeg:20260311T210000
DTSTAMP:20260422T124433
CREATED:20260123T185032Z
LAST-MODIFIED:20260123T185032Z
UID:602126806-1773255600-1773262800@dev.winnipegfreepress.com
SUMMARY:Geothermal (GSHP) Public Information Session
DESCRIPTION:Following our “Leading by Example” Geothermal Conference\, we will hold a public information session about geothermal.\nThis free Public Information Session about geothermal will be held from 7-9 PM (doors open at 6:30PM) on the evening of March 11\, 2026\, at the Victoria Inn Hotel. \n*Please register for the Public Information Session Passes even though there is no charge so we can estimate planned attendance.* \nAttendees are encouraged on the evening of March 11th to donate a monetary or food items onsite. All proceeds from the public information session will be donated to the Food Bank.
URL:https://dev.winnipegfreepress.com/event/geothermal-gshp-public-information-session
LOCATION:Victoria Inn\, 1808 Wellington Ave\, Winnipeg\, MB R3H 0G3\, Winnipeg\, Manitoba\, R3H 0G3\, Canada
ATTACH;FMTTYPE=image/jpeg:https://dev.winnipegfreepress.com/wp-content/uploads/sites/2/2026/01/PIS.jpg
END:VEVENT
BEGIN:VEVENT
DTSTART;TZID=America/Winnipeg:20260311T190000
DTEND;TZID=America/Winnipeg:20260311T220000
DTSTAMP:20260422T124433
CREATED:20260226T194435Z
LAST-MODIFIED:20260226T194435Z
UID:602188189-1773255600-1773266400@dev.winnipegfreepress.com
SUMMARY:CJS Presents: Frozen - The Broadway Musical
DESCRIPTION:Come join Elsa and Anna in Arendelle as CJS presents: Frozen – three live performances Mar. 11-12 at the Burton Cummings Theatre with live band!
URL:https://dev.winnipegfreepress.com/event/cjs-presents-frozen-the-broadway-musical
LOCATION:Burton Cummings Theatre\, 364 Smith St\, Winnipeg\, Manitoba\, R3B 2H2\, Canada
ATTACH;FMTTYPE=image/png:https://dev.winnipegfreepress.com/wp-content/uploads/sites/2/2026/02/Screen-Shot-2026-02-25-at-7.29.57-PM.png
END:VEVENT
END:VCALENDAR