BEGIN:VCALENDAR
VERSION:2.0
PRODID:-//Winnipeg Free Press - ECPv6.15.20//NONSGML v1.0//EN
CALSCALE:GREGORIAN
METHOD:PUBLISH
X-WR-CALNAME:Winnipeg Free Press
X-ORIGINAL-URL:https://dev.winnipegfreepress.com
X-WR-CALDESC:Events for Winnipeg Free Press
REFRESH-INTERVAL;VALUE=DURATION:PT1H
X-Robots-Tag:noindex
X-PUBLISHED-TTL:PT1H
BEGIN:VTIMEZONE
TZID:America/Winnipeg
BEGIN:DAYLIGHT
TZOFFSETFROM:-0600
TZOFFSETTO:-0500
TZNAME:CDT
DTSTART:20240310T080000
END:DAYLIGHT
BEGIN:STANDARD
TZOFFSETFROM:-0500
TZOFFSETTO:-0600
TZNAME:CST
DTSTART:20241103T070000
END:STANDARD
BEGIN:DAYLIGHT
TZOFFSETFROM:-0600
TZOFFSETTO:-0500
TZNAME:CDT
DTSTART:20250309T080000
END:DAYLIGHT
BEGIN:STANDARD
TZOFFSETFROM:-0500
TZOFFSETTO:-0600
TZNAME:CST
DTSTART:20251102T070000
END:STANDARD
BEGIN:DAYLIGHT
TZOFFSETFROM:-0600
TZOFFSETTO:-0500
TZNAME:CDT
DTSTART:20260308T080000
END:DAYLIGHT
BEGIN:STANDARD
TZOFFSETFROM:-0500
TZOFFSETTO:-0600
TZNAME:CST
DTSTART:20261101T070000
END:STANDARD
BEGIN:DAYLIGHT
TZOFFSETFROM:-0600
TZOFFSETTO:-0500
TZNAME:CDT
DTSTART:20270314T080000
END:DAYLIGHT
BEGIN:STANDARD
TZOFFSETFROM:-0500
TZOFFSETTO:-0600
TZNAME:CST
DTSTART:20271107T070000
END:STANDARD
END:VTIMEZONE
BEGIN:VEVENT
DTSTART;TZID=America/Winnipeg:20251201T090000
DTEND;TZID=America/Winnipeg:20260228T170000
DTSTAMP:20260423T024720
CREATED:20251010T200558Z
LAST-MODIFIED:20251010T200558Z
UID:601961349-1764579600-1772298000@dev.winnipegfreepress.com
SUMMARY:Winter in the Village
DESCRIPTION:Experience winter in MHV’s picturesque Village! Enjoy skating\, snowshoeing\, sleigh rides\, and a roaring bonfire. Don’t own skates or snowshoes? Rent them here! \nTry your hand at Crokicurl\, a Canadian game that blends crokinole and curling into one fun\, outdoor activity! See MHV’s Main Street lit up with Christmas lights during our light show on Saturday evenings. \nWarm up with our Winter in the Village Cafe\, featuring hot chocolate\, hot apple cider\, and a variety of freshly baked goods. \nCelebrate the winter season at MHV! \nOpen Tuesday-Friday 9am-5pm | Saturday 9am-8pm | December – February
URL:https://dev.winnipegfreepress.com/event/winter-in-the-village
LOCATION:Mennonite Heritage Village\, 231 PTH 12 North\, Steinbach\, Manitoba\, R5G 1T8\, Canada
ATTACH;FMTTYPE=image/png:https://dev.winnipegfreepress.com/wp-content/uploads/sites/2/2025/10/Winter-in-the-Village-Flyer-2025.png
END:VEVENT
BEGIN:VEVENT
DTSTART;TZID=America/Winnipeg:20260115T090000
DTEND;TZID=America/Winnipeg:20260411T200000
DTSTAMP:20260423T024720
CREATED:20260226T194435Z
LAST-MODIFIED:20260226T194435Z
UID:602187405-1768467600-1775937600@dev.winnipegfreepress.com
SUMMARY:sans FLASH – Exposition de Photos | Photo Exhibition
DESCRIPTION:Revenir au geste. Ralentir le regard. Avant le pixel\, il y a l’émotion. Moins d’écrans. Plus de matière.  \nDu 15 janvier au 11 avril 2026\, une toute nouvelle exposition pour vous : “sans FLASH”. Venez découvrir des univers uniques et perdre votre regard dans des photographies analogiques contemporaines\, qui vous invitent à explorer les univers singuliers des artistes Gavin Boutroy\, Alexandre Normandeau et Philippe Bellefeuille. \nDu lundi au dimanche | 9h-20h\, entrée libre.  \n— \nReturn to the gesture. Slow down your gaze. Before the pixel\, there is emotion. Fewer screens. More substance.  \nFrom January 15 to April 11\, 2026\, a brand new exhibition for you: “sans FLASH” (without FLASH). Come and discover unique worlds and lose yourself in contemporary analog photographs that invite you to explore the singular universes of artists Gavin Boutroy\, Alexandre Normandeau\, and Philippe Bellefeuille. \nMonday to Sunday | 9 a.m. to 8 p.m.\, free admission.
URL:https://dev.winnipegfreepress.com/event/sans-flash-exposition-de-photos-photo-exhibition
LOCATION:Manitoba
ATTACH;FMTTYPE=image/png:https://dev.winnipegfreepress.com/wp-content/uploads/sites/2/2026/02/02.-sans-Flash-1080x1080-sans-Flash-carre.png
END:VEVENT
BEGIN:VEVENT
DTSTART;TZID=America/Winnipeg:20260223T190000
DTEND;TZID=America/Winnipeg:20260305T213000
DTSTAMP:20260423T024720
CREATED:20260205T150115Z
LAST-MODIFIED:20260205T150115Z
UID:602146589-1771873200-1772746200@dev.winnipegfreepress.com
SUMMARY:Spencerian Script Adventure Calligraphy Workshop
DESCRIPTION:The Calligraphers’ Guild of Manitoba is launching off the year with an incredible learning opportunity for its members and anyone interested in perfecting their calligraphy skills. \nWe are happy to announce that internationally renowned artist Kalo Chu will be teaching Spencerian Script Adventure for the guild this February. This workshop is an introductory class in Spencerian Script. It is appropriate for complete beginners or calligraphers of any level who wish to master and refine their technique. \nThis class will cover the history of Spencerian Script\, and explore the lowercase and uppercase letter forms in detail\, as well as letter connections and variations.  \nSpencerian is an elegant\, historical writing style that was developed in America in the 1840’s by Platt Roger Spencer. Learning Spencerian helps to improve your overall handwriting. It is a versatile script that can be used for daily correspondence\, handwritten letters\, stationery designs\, wedding invitations\, and more. \nThe class will be conducted on Zoom on Mondays and Thursdays\, from February 23\, 2026\, to March 5\, 2026.
URL:https://dev.winnipegfreepress.com/event/spencerian-script-adventure-calligraphy-workshop
LOCATION:Manitoba
ATTACH;FMTTYPE=image/jpeg:https://dev.winnipegfreepress.com/wp-content/uploads/sites/2/2026/02/Yugen.jpeg
END:VEVENT
BEGIN:VEVENT
DTSTART;TZID=America/Winnipeg:20260224T193000
DTEND;TZID=America/Winnipeg:20260308T140000
DTSTAMP:20260423T024720
CREATED:20260107T224441Z
LAST-MODIFIED:20260107T224441Z
UID:602099805-1771961400-1772978400@dev.winnipegfreepress.com
SUMMARY:The Undeniable Accusations of Red Cadmium Light
DESCRIPTION:The Undeniable Accusations of Red Cadmium Light by Drew Hayden Taylor \nNazhi Nigig runs an art gallery on the Otter Lake First Nation. She is famous for spotting counterfeits of the work of Norval Morrisseau and other renowned Indigenous artists\, using special techniques – such as noticing the use of Red Cadmium Light\, a paint colour that can give away a forgery. Her daughter Beverly is a successful Indigenous educator\, up for a big promotion. When a reporter begins to dig into the world of counterfeit Indigenous art\, a discovery is made that risks jeopardizing both women’s careers\, and their relationship\, forever. \nWorld Premiere\nFebruary 24 – March 8\, 2026
URL:https://dev.winnipegfreepress.com/event/the-undeniable-accusations-of-red-cadmium-light
LOCATION:Prairie Theatre Exchange\, Y300 - 393 Portage Avenue\, Winnipeg\, Manitoba\, R3B3H6\, Canada
ATTACH;FMTTYPE=image/jpeg:https://dev.winnipegfreepress.com/wp-content/uploads/sites/2/2026/01/PTE_Undeniable_800x800px.jpg
END:VEVENT
BEGIN:VEVENT
DTSTART;TZID=America/Winnipeg:20260226T193000
DTEND;TZID=America/Winnipeg:20260301T160000
DTSTAMP:20260423T024720
CREATED:20250610T221059Z
LAST-MODIFIED:20250610T221059Z
UID:601755664-1772134200-1772380800@dev.winnipegfreepress.com
SUMMARY:The 39 Steps
DESCRIPTION:“The 39 Steps”\, adapted by Patrick Barlow\, from the novel by John Buchan\, from the movie by Alfred Hitchcock. A sultry spy is murdered and a Canadian with a boring life finds himself pursued by a mysterious organization called “The 39 Steps”. Mix a Hitchcock masterpiece with a juicy spy novel\, add in nonstop laughs\, and you have a fast-paced whodunit for anyone who loves the magic of theatre! This two-time Tony Award-winning treat is packed with over 150 zany characters\, an onstage plane crash\, handcuffs\, missing fingers\, and some good old-fashioned romance!
URL:https://dev.winnipegfreepress.com/event/the-39-steps
LOCATION:Gas Station Arts Centre\, 445 River Ave.\, Winnipeg\, Manitoba\, R3L0C3\, Canada
ATTACH;FMTTYPE=image/png:https://dev.winnipegfreepress.com/wp-content/uploads/sites/2/2025/06/Steps-with-QRs.png
END:VEVENT
BEGIN:VEVENT
DTSTART;VALUE=DATE:20260227
DTEND;VALUE=DATE:20260301
DTSTAMP:20260423T024720
CREATED:20260213T185010Z
LAST-MODIFIED:20260213T185010Z
UID:602168197-1772150400-1772323199@dev.winnipegfreepress.com
SUMMARY:State & Main Empress Street Grand Opening Celebration
DESCRIPTION:Join the party at the grand opening event for State & Main Empress Street! We’re serving up all-day happy hour specials\, fun giveaways\, and a live DJ from 8 PM until close. Whether you’re popping in for handcrafted cocktails\, elevated comfort food\, or just to celebrate this new neighbourhood hub\, it’s the perfect excuse to gather with friends.
URL:https://dev.winnipegfreepress.com/event/state-main-empress-street-grand-opening-celebration
LOCATION:Manitoba
ATTACH;FMTTYPE=image/png:https://dev.winnipegfreepress.com/wp-content/uploads/sites/2/2026/02/State-Main-Empress-St-Grand-Opening-Celebration.png
END:VEVENT
BEGIN:VEVENT
DTSTART;VALUE=DATE:20260227
DTEND;VALUE=DATE:20260309
DTSTAMP:20260423T024720
CREATED:20260226T194436Z
LAST-MODIFIED:20260226T194436Z
UID:602189461-1772150400-1773014399@dev.winnipegfreepress.com
SUMMARY:Doodle POP
DESCRIPTION:A BRUSH Theatre Production (Seoul\, South Korea)\nBack by popular demand! The mischievous Boogie and Woogie invite us along on a sea adventure with a tiny turtle. Using their markers to create imaginary worlds that combine with sound effects\, live music\, and stunning animation\, this show will doodle its way into your imagination and heart.
URL:https://dev.winnipegfreepress.com/event/doodle-pop
LOCATION:Manitoba Theatre for Young People\, 2 Forks Market Rd.\, Winnipeg\, Manitoba\, R3C 4X1\, Canada
ATTACH;FMTTYPE=image/jpeg:https://dev.winnipegfreepress.com/wp-content/uploads/sites/2/2026/02/2026-MTYP-DoodlePOP-Tourism-Graphic-600x450_FIN1.jpg
END:VEVENT
BEGIN:VEVENT
DTSTART;TZID=America/Winnipeg:20260227T210000
DTEND;TZID=America/Winnipeg:20260227T230000
DTSTAMP:20260423T024720
CREATED:20251231T095812Z
LAST-MODIFIED:20260128T174448Z
UID:602088612-1772226000-1772233200@dev.winnipegfreepress.com
SUMMARY:Pop Punk Cover Night at Park Theatre - Winnipeg
DESCRIPTION:Welcome to Pop Punk Cover Night at Park Theatre in Winnipeg! Get ready to rock out with some of your favorite pop punk hits on February 27\, 2026\, at 9:00 PM. This event is not to be missed\, as our talented performers will bring high energy and infectious vibes to the stage. \nWhat sets this show apart is the passion and authenticity that our performers bring to every song. You’ll feel like you’re at a live concert of your favorite pop punk bands\, with all the nostalgia and excitement that comes with it. The Park Theatre in Winnipeg provides the perfect intimate setting for this event\, allowing you to get up close and personal with the music. \nLocated in the heart of Winnipeg\, Park Theatre is easily accessible and offers a cozy atmosphere that will make you feel right at home. Whether you’re a die-hard pop punk fan or just looking for a fun night out\, this event is sure to deliver an unforgettable experience. \nDon’t miss out on this epic night of music and memories. Grab your tickets now and join us for Pop Punk Cover Night at Park Theatre in Winnipeg. Let’s rock out together and make some unforgettable memories!
URL:https://dev.winnipegfreepress.com/event/pop-punk-cover-night-at-park-theatre-winnipeg
LOCATION:The Park Theatre\, 698 Osborne Street\, Winnipeg\, Manitoba\, R3L 2B9\, Canada
ATTACH;FMTTYPE=image/png:https://dev.winnipegfreepress.com/wp-content/uploads/sites/2/2025/12/84_Original.png
END:VEVENT
END:VCALENDAR