BEGIN:VCALENDAR
VERSION:2.0
PRODID:-//Winnipeg Free Press - ECPv6.15.20//NONSGML v1.0//EN
CALSCALE:GREGORIAN
METHOD:PUBLISH
X-WR-CALNAME:Winnipeg Free Press
X-ORIGINAL-URL:https://dev.winnipegfreepress.com
X-WR-CALDESC:Events for Winnipeg Free Press
REFRESH-INTERVAL;VALUE=DURATION:PT1H
X-Robots-Tag:noindex
X-PUBLISHED-TTL:PT1H
BEGIN:VTIMEZONE
TZID:America/Winnipeg
BEGIN:DAYLIGHT
TZOFFSETFROM:-0600
TZOFFSETTO:-0500
TZNAME:CDT
DTSTART:20240310T080000
END:DAYLIGHT
BEGIN:STANDARD
TZOFFSETFROM:-0500
TZOFFSETTO:-0600
TZNAME:CST
DTSTART:20241103T070000
END:STANDARD
BEGIN:DAYLIGHT
TZOFFSETFROM:-0600
TZOFFSETTO:-0500
TZNAME:CDT
DTSTART:20250309T080000
END:DAYLIGHT
BEGIN:STANDARD
TZOFFSETFROM:-0500
TZOFFSETTO:-0600
TZNAME:CST
DTSTART:20251102T070000
END:STANDARD
BEGIN:DAYLIGHT
TZOFFSETFROM:-0600
TZOFFSETTO:-0500
TZNAME:CDT
DTSTART:20260308T080000
END:DAYLIGHT
BEGIN:STANDARD
TZOFFSETFROM:-0500
TZOFFSETTO:-0600
TZNAME:CST
DTSTART:20261101T070000
END:STANDARD
BEGIN:DAYLIGHT
TZOFFSETFROM:-0600
TZOFFSETTO:-0500
TZNAME:CDT
DTSTART:20270314T080000
END:DAYLIGHT
BEGIN:STANDARD
TZOFFSETFROM:-0500
TZOFFSETTO:-0600
TZNAME:CST
DTSTART:20271107T070000
END:STANDARD
END:VTIMEZONE
BEGIN:VEVENT
DTSTART;TZID=America/Winnipeg:20251201T090000
DTEND;TZID=America/Winnipeg:20260228T170000
DTSTAMP:20260423T010249
CREATED:20251010T200558Z
LAST-MODIFIED:20251010T200558Z
UID:601961349-1764579600-1772298000@dev.winnipegfreepress.com
SUMMARY:Winter in the Village
DESCRIPTION:Experience winter in MHV’s picturesque Village! Enjoy skating\, snowshoeing\, sleigh rides\, and a roaring bonfire. Don’t own skates or snowshoes? Rent them here! \nTry your hand at Crokicurl\, a Canadian game that blends crokinole and curling into one fun\, outdoor activity! See MHV’s Main Street lit up with Christmas lights during our light show on Saturday evenings. \nWarm up with our Winter in the Village Cafe\, featuring hot chocolate\, hot apple cider\, and a variety of freshly baked goods. \nCelebrate the winter season at MHV! \nOpen Tuesday-Friday 9am-5pm | Saturday 9am-8pm | December – February
URL:https://dev.winnipegfreepress.com/event/winter-in-the-village
LOCATION:Mennonite Heritage Village\, 231 PTH 12 North\, Steinbach\, Manitoba\, R5G 1T8\, Canada
ATTACH;FMTTYPE=image/png:https://dev.winnipegfreepress.com/wp-content/uploads/sites/2/2025/10/Winter-in-the-Village-Flyer-2025.png
END:VEVENT
BEGIN:VEVENT
DTSTART;TZID=America/Winnipeg:20260115T090000
DTEND;TZID=America/Winnipeg:20260411T200000
DTSTAMP:20260423T010249
CREATED:20260226T194435Z
LAST-MODIFIED:20260226T194435Z
UID:602187405-1768467600-1775937600@dev.winnipegfreepress.com
SUMMARY:sans FLASH – Exposition de Photos | Photo Exhibition
DESCRIPTION:Revenir au geste. Ralentir le regard. Avant le pixel\, il y a l’émotion. Moins d’écrans. Plus de matière.  \nDu 15 janvier au 11 avril 2026\, une toute nouvelle exposition pour vous : “sans FLASH”. Venez découvrir des univers uniques et perdre votre regard dans des photographies analogiques contemporaines\, qui vous invitent à explorer les univers singuliers des artistes Gavin Boutroy\, Alexandre Normandeau et Philippe Bellefeuille. \nDu lundi au dimanche | 9h-20h\, entrée libre.  \n— \nReturn to the gesture. Slow down your gaze. Before the pixel\, there is emotion. Fewer screens. More substance.  \nFrom January 15 to April 11\, 2026\, a brand new exhibition for you: “sans FLASH” (without FLASH). Come and discover unique worlds and lose yourself in contemporary analog photographs that invite you to explore the singular universes of artists Gavin Boutroy\, Alexandre Normandeau\, and Philippe Bellefeuille. \nMonday to Sunday | 9 a.m. to 8 p.m.\, free admission.
URL:https://dev.winnipegfreepress.com/event/sans-flash-exposition-de-photos-photo-exhibition
LOCATION:Manitoba
ATTACH;FMTTYPE=image/png:https://dev.winnipegfreepress.com/wp-content/uploads/sites/2/2026/02/02.-sans-Flash-1080x1080-sans-Flash-carre.png
END:VEVENT
BEGIN:VEVENT
DTSTART;TZID=America/Winnipeg:20260117T100000
DTEND;TZID=America/Winnipeg:20260221T160000
DTSTAMP:20260423T010249
CREATED:20260107T185352Z
LAST-MODIFIED:20260107T185352Z
UID:602099400-1768644000-1771689600@dev.winnipegfreepress.com
SUMMARY:Nine Perspectives: An art exhibition by 9 rural and northern Manitoba artists
DESCRIPTION:Nine Perspectives brings together new work by nine artists from rural and northern Manitoba who participated in a six-month group mentorship and exhibition program through the Manitoba Arts Network.\n​\nThe exhibition reflects a wide range of materials\, themes\, and approaches\, while emphasizing cohesion\, intention\, and professional presentation. Artists were supported in developing bodies of work that speak clearly to their practice\, explore consistency across multiple pieces\, and prepare their work for commercial and gallery contexts.\n​\nThrough guided webinars\, group critique sessions\, and mentorship with Jordan Miller\, participating artists engaged in discussions around audience development\, branding\, pricing\, presentation\, and writing professional artist materials. The exhibition highlights both individual artistic voices and the shared learning that emerged through this collaborative process. \nDates and Programming\n​\nExhibition Runs\nJanuary 17 – February 21\, 2026\n​\nOpening Reception\nSaturday\, January 17\, 2026\n2:00 – 4:00 pm\nKeynote by mentor Jordan Miller\n​\nFirst Friday Programming\nFriday\, February 6\, 2026\n6:00 – 9:00 pm\nA participating artist will lead a hands-on\, come-and-go public art activity as part of First Fridays at 210 Gallery.\n​\nFeatured Artists\nGlenda Cairns Poirier\nJoy Billings\nLaura Bryson\nLee Beaton\nMarin Curtis\nMary Louise Chown\nMike Davids\nNoelle Drimmie\nSandy Proulx
URL:https://dev.winnipegfreepress.com/event/nine-perspectives-an-art-exhibition-by-9-rural-and-northern-manitoba-artists
LOCATION:210 Gallery\, 210 Princess Street\, Winnipeg\, Manitoba\, R3B1L4\, Canada
ATTACH;FMTTYPE=image/jpeg:https://dev.winnipegfreepress.com/wp-content/uploads/sites/2/2026/01/Banner-Nine-Perspectives.jpg
END:VEVENT
BEGIN:VEVENT
DTSTART;VALUE=DATE:20260130
DTEND;VALUE=DATE:20260208
DTSTAMP:20260423T010249
CREATED:20260122T215656Z
LAST-MODIFIED:20260122T215656Z
UID:602125197-1769731200-1770508799@dev.winnipegfreepress.com
SUMMARY:Tad and Birdy
DESCRIPTION:Manitoba Theatre for Young People presents Tad and Birdy by Anika Dowsett! \nTad\, a bird-voiced tree frog tadpole\, and Birdy\, a lovebird who knows everything except how to be happy\, form an unlikely friendship. As Tad emerges into the world\, they find themselves in a messy bedroom\, where Birdy has been living for much longer. Birdy has no hope or interest in the world beyond their window. The optimistic Tad eventually breaks through Birdy’s resistance. Through the ups and downs of their friendship\, they grow to appreciate each other\, and inspire one another to venture beyond the limitations placed on them\, both real and perceived.
URL:https://dev.winnipegfreepress.com/event/tad-and-birdy
LOCATION:Manitoba Theatre for Young People\, 2 Forks Market Rd.\, Winnipeg\, Manitoba\, R3C 4X1\, Canada
ATTACH;FMTTYPE=image/jpeg:https://dev.winnipegfreepress.com/wp-content/uploads/sites/2/2026/01/TB-MTYP-square.jpg
END:VEVENT
BEGIN:VEVENT
DTSTART;VALUE=DATE:20260204
DTEND;VALUE=DATE:20260222
DTSTAMP:20260423T010249
CREATED:20251204T162556Z
LAST-MODIFIED:20251204T162556Z
UID:602050457-1770163200-1771718399@dev.winnipegfreepress.com
SUMMARY:Holland
DESCRIPTION:“Wow\, I think I signed less paperwork when we bought a house.” – Carrie  \nThis world premiere is a hilarious madcap adventure\, an unflinching look at disability rights and a love letter to everyday heroes who will do anything for their people. \nCarrie and Paul are good people with solid friends and great kids. Another constant in their life is Alice\, an antagonistic social worker who holds all the cards when it comes to their disabled son. Alice makes promises but keeps few\, drowning the couple in paperwork\, denying basic services and bewildering them with impossible deadlines. Pushed to the brink\, Carrie takes matters into her own hands – in the most outrageous way possible – and goes from doing everything for her family to risking it all.
URL:https://dev.winnipegfreepress.com/event/holland
LOCATION:Royal Manitoba Theatre Centre\, 174 Market Ave\, Winnipeg\, Manitoba\, R3B 0P8\, Canada
ATTACH;FMTTYPE=image/jpeg:https://dev.winnipegfreepress.com/wp-content/uploads/sites/2/2025/12/RMTC_Carosel-3_Holland_1200x1200_v2.jpg
END:VEVENT
BEGIN:VEVENT
DTSTART;TZID=America/Winnipeg:20260206T170000
DTEND;TZID=America/Winnipeg:20260206T210000
DTSTAMP:20260423T010249
CREATED:20260204T164225Z
LAST-MODIFIED:20260204T164225Z
UID:602144969-1770397200-1770411600@dev.winnipegfreepress.com
SUMMARY:FIRST FRIDAYS in the EXCHANGE
DESCRIPTION:On the 1st Friday of each month\, Galleries\, Artist-Run Centres\, Studios\, Shops + Museums stay open late at this free event in Winnipeg’s Exchange District.  \nWarm up (& chill at the same time!) as Galleries\, Art Studios\, Shops & restaurants welcome your visit. \nINDULGE in a feast of creativity at the Galleries and Studios.\nCOLLECT a unique work of art from a Manitoba Artist.\nCHAMPION the fabulous\, locally owned & operated shops\, markets\, museums\, and services.\nREFRESH at a favourite coffee shop\, brewery or dining spot\, or discover a hidden gem.\nCREATE a mini-masterpiece at a drop-in workshop.\nCONNECT with live music\, dance\, theatre\, poetry performances\, & interactive special events.\nEMBRACE the vibrant after-hours scene and dance the night away! \nHit the link and be taken to a printable Tour Map and all the marvellous details for First Friday\, February 6! \nPlus….free street parking after 5:30pm!
URL:https://dev.winnipegfreepress.com/event/first-fridays-in-the-exchange
LOCATION:Manitoba
ATTACH;FMTTYPE=image/jpeg:https://dev.winnipegfreepress.com/wp-content/uploads/sites/2/2026/02/2026-Feb.-6-copy.jpg
END:VEVENT
BEGIN:VEVENT
DTSTART;TZID=America/Winnipeg:20260206T173000
DTEND;TZID=America/Winnipeg:20260206T213000
DTSTAMP:20260423T010249
CREATED:20251003T190026Z
LAST-MODIFIED:20251003T190026Z
UID:601950965-1770399000-1770413400@dev.winnipegfreepress.com
SUMMARY:2026 Manitoba Chinese Business Gala
DESCRIPTION:The Manitoba Chinese Business Gala (MCBG) is the premier event celebrating the Chinese Lunar New Year and recognizing the remarkable contributions of businesses and entrepreneurs within Manitoba’s Chinese community. Hosted by IDO Media\, MCBG has grown to become the largest event of its kind in the province\, bringing together leaders from across industries to connect\, celebrate\, and inspire.  \nOn February 6\, 2026\, IDO Media proudly presents the 6th Annual Manitoba Chinese Business Gala. Each year\, this signature event brings together more than 300 business leaders\, entrepreneurs\, investors\, and influential voices from across Manitoba and beyond. \nJoin us for an evening that blends cultural celebration with business opportunity. Guests will enjoy authentic Chinese cuisine\, world-class performances\, and the joyous spirit of the Lunar New Year. Beyond the festivities\, MCBG 2026 is a platform to explore opportunities for collaboration\, learn about the potential of doing business with Chinese markets locally and globally\, and gain insights on how to connect meaningfully with a growing and dynamic community. \nAt the heart of the gala is our recognition of outstanding achievement. We honour individuals and businesses whose innovation\, dedication\, and leadership have contributed to both economic success and community enrichment. Whether you are looking to grow your business\, expand your network\, or simply experience the richness of Chinese culture\, we invite you to join us in celebrating the 6th Annual Manitoba Chinese Business Gala—an evening of connection\, inspiration\, and celebration.
URL:https://dev.winnipegfreepress.com/event/2026-manitoba-chinese-business-gala
LOCATION:Club Regent Event Centre\, 1425 Regent Ave W\, Winnipeg\, MB\, R2C 3B2\, Canada
ATTACH;FMTTYPE=image/jpeg:https://dev.winnipegfreepress.com/wp-content/uploads/sites/2/2025/10/MCBG2026.jpeg
END:VEVENT
BEGIN:VEVENT
DTSTART;TZID=America/Winnipeg:20260206T180000
DTEND;TZID=America/Winnipeg:20260206T220000
DTSTAMP:20260423T010249
CREATED:20260202T160526Z
LAST-MODIFIED:20260202T160526Z
UID:602139438-1770400800-1770415200@dev.winnipegfreepress.com
SUMMARY:Heritage Days at St Norbert Community Centre
DESCRIPTION:Our yearly celebration returns on Friday\, February 6 and Saturday February 7\, 2026! We will host a baked potato buffet and beer garden on Friday from 6-10 PM featuring entertainment by Gilles Crevier\, Quintin Bart and the Tim Veldhuis Band.\nSaturday\, will offer a free hot dog lunch for kids\, bannock & bonfire\, mobile ski library\, Historical/heritage displays\, entertainment by the soaring eagle singers\, the aboriginal school of dance\, Anne-Marie Williot and Morgan Grace\, Sleepy the Clown and ending in a special fireworks display at approximately 6 PM. Contact Dana Derkson for more info at 204-269-8003 or dana_derkson@hotmail.com.
URL:https://dev.winnipegfreepress.com/event/heritage-days-at-st-norbert-community-centre
LOCATION:St Norbert Community Centre\, 3450 Pembina Highway\, Winnipeg\, manitoba\, R3V 1A1\, Canada
ATTACH;FMTTYPE=image/png:https://dev.winnipegfreepress.com/wp-content/uploads/sites/2/2026/01/heritagedays2026.png
END:VEVENT
BEGIN:VEVENT
DTSTART;TZID=America/Winnipeg:20260206T193000
DTEND;TZID=America/Winnipeg:20260206T220000
DTSTAMP:20260423T010249
CREATED:20260126T220604Z
LAST-MODIFIED:20260126T220604Z
UID:602130968-1770406200-1770415200@dev.winnipegfreepress.com
SUMMARY:Jill Barber: Under Paris Skies
DESCRIPTION:Enjoy the timeless torch songs and musical love letters to Paris\, the “City of Lights.” \nGet swept away by three-time JUNO Award nominee Jill Barber’s signature charm when she joins your WSO for an evening of French music. With her unmistakable voice\, Jill takes on the timeless chansons of Édith Piaf\, Charles Trenet\, Jacques Brel\, and many more.
URL:https://dev.winnipegfreepress.com/event/jill-barber-under-paris-skies
LOCATION:Centennial Concert Hall\, 555 Main Street\, Winnipeg\, Manitoba\, R3B 1C3\, Canada
ATTACH;FMTTYPE=image/jpeg:https://dev.winnipegfreepress.com/wp-content/uploads/sites/2/2026/01/21457-WSO-25-26-Season-Creative-JILL_BARBER-1600x900-Jan2026-FNL.jpg
END:VEVENT
END:VCALENDAR